BEGIN:VCALENDAR
VERSION:2.0
PRODID:-//Tiers-Lieux en Bigorre (TLB) - ECPv6.15.20//NONSGML v1.0//EN
CALSCALE:GREGORIAN
METHOD:PUBLISH
X-WR-CALNAME:Tiers-Lieux en Bigorre (TLB)
X-ORIGINAL-URL:https://tierslieuxenbigorre.org
X-WR-CALDESC:Évènements pour Tiers-Lieux en Bigorre (TLB)
REFRESH-INTERVAL;VALUE=DURATION:PT1H
X-Robots-Tag:noindex
X-PUBLISHED-TTL:PT1H
BEGIN:VTIMEZONE
TZID:Europe/Paris
BEGIN:DAYLIGHT
TZOFFSETFROM:+0100
TZOFFSETTO:+0200
TZNAME:CEST
DTSTART:20230326T010000
END:DAYLIGHT
BEGIN:STANDARD
TZOFFSETFROM:+0200
TZOFFSETTO:+0100
TZNAME:CET
DTSTART:20231029T010000
END:STANDARD
BEGIN:DAYLIGHT
TZOFFSETFROM:+0100
TZOFFSETTO:+0200
TZNAME:CEST
DTSTART:20240331T010000
END:DAYLIGHT
BEGIN:STANDARD
TZOFFSETFROM:+0200
TZOFFSETTO:+0100
TZNAME:CET
DTSTART:20241027T010000
END:STANDARD
BEGIN:DAYLIGHT
TZOFFSETFROM:+0100
TZOFFSETTO:+0200
TZNAME:CEST
DTSTART:20250330T010000
END:DAYLIGHT
BEGIN:STANDARD
TZOFFSETFROM:+0200
TZOFFSETTO:+0100
TZNAME:CET
DTSTART:20251026T010000
END:STANDARD
END:VTIMEZONE
BEGIN:VEVENT
DTSTART;TZID=Europe/Paris:20241221T090000
DTEND;TZID=Europe/Paris:20241221T180000
DTSTAMP:20260426T054337
CREATED:20241216T170305Z
LAST-MODIFIED:20241216T170305Z
UID:1661-1734771600-1734804000@tierslieuxenbigorre.org
SUMMARY:Journée Sport et santé
DESCRIPTION:Journée Sport & bien être\nDe 9h à 18h – GRATUIT ET SANS INSCRIPTION \nPilates\, Yoga\, Cross Training\, Running\, Naturopathie\, réflexologie\, massage sportif \nRomane Malard :\n06 67 19 41 04 / 07 65 51 44 95
URL:https://tierslieuxenbigorre.org/event/journee-sport-et-sante/
LOCATION:Tiers-Lieux en Bigorre\, 33 avenue du Général Leclerc\, BAGNERES DE BIGORRE\, 65200\, France
CATEGORIES:Evènement Bien être
END:VEVENT
END:VCALENDAR